BEGIN:VCALENDAR
VERSION:2.0
PRODID:-//Gospelkoor Shine - ECPv6.15.20//NONSGML v1.0//EN
CALSCALE:GREGORIAN
METHOD:PUBLISH
X-ORIGINAL-URL:https://gospelkoorshinesliedrecht.nl
X-WR-CALDESC:Evenementen voor Gospelkoor Shine
REFRESH-INTERVAL;VALUE=DURATION:PT1H
X-Robots-Tag:noindex
X-PUBLISHED-TTL:PT1H
BEGIN:VTIMEZONE
TZID:Europe/Amsterdam
BEGIN:DAYLIGHT
TZOFFSETFROM:+0100
TZOFFSETTO:+0200
TZNAME:CEST
DTSTART:20230326T010000
END:DAYLIGHT
BEGIN:STANDARD
TZOFFSETFROM:+0200
TZOFFSETTO:+0100
TZNAME:CET
DTSTART:20231029T010000
END:STANDARD
BEGIN:DAYLIGHT
TZOFFSETFROM:+0100
TZOFFSETTO:+0200
TZNAME:CEST
DTSTART:20240331T010000
END:DAYLIGHT
BEGIN:STANDARD
TZOFFSETFROM:+0200
TZOFFSETTO:+0100
TZNAME:CET
DTSTART:20241027T010000
END:STANDARD
BEGIN:DAYLIGHT
TZOFFSETFROM:+0100
TZOFFSETTO:+0200
TZNAME:CEST
DTSTART:20250330T010000
END:DAYLIGHT
BEGIN:STANDARD
TZOFFSETFROM:+0200
TZOFFSETTO:+0100
TZNAME:CET
DTSTART:20251026T010000
END:STANDARD
BEGIN:DAYLIGHT
TZOFFSETFROM:+0100
TZOFFSETTO:+0200
TZNAME:CEST
DTSTART:20260329T010000
END:DAYLIGHT
BEGIN:STANDARD
TZOFFSETFROM:+0200
TZOFFSETTO:+0100
TZNAME:CET
DTSTART:20261025T010000
END:STANDARD
BEGIN:DAYLIGHT
TZOFFSETFROM:+0100
TZOFFSETTO:+0200
TZNAME:CEST
DTSTART:20270328T010000
END:DAYLIGHT
BEGIN:STANDARD
TZOFFSETFROM:+0200
TZOFFSETTO:+0100
TZNAME:CET
DTSTART:20271031T010000
END:STANDARD
END:VTIMEZONE
BEGIN:VEVENT
DTSTART;TZID=Europe/Amsterdam:20241215T143000
DTEND;TZID=Europe/Amsterdam:20241215T153000
DTSTAMP:20260424T133806
CREATED:20240302T120153Z
LAST-MODIFIED:20240302T120153Z
UID:2119-1734273000-1734276600@gospelkoorshinesliedrecht.nl
SUMMARY:Aangepaste kerstviering Maranathakerk Sliedrecht
DESCRIPTION:Wat een feest was het dat we afgelopen jaar mochten zingen tijdens de aangepaste kerstviering. Wij hebben er ontzettend van genoten en zijn dan ook super blij dat we ook dit jaar onze medewerking mogen verlenen aan de kerstviering in de Maranathakerk. We hebben er nu al heel veel zin in. Zien we u dan ook?
URL:https://gospelkoorshinesliedrecht.nl/evenement/aangepaste-kerstviering-maranathakerk-sliedrecht/
LOCATION:Maranathakerk Sliedrecht\, Lijsterweg 2\, Sliedrecht\, 3362BK\, Nederland
END:VEVENT
BEGIN:VEVENT
DTSTART;TZID=Europe/Amsterdam:20241221T193000
DTEND;TZID=Europe/Amsterdam:20241221T213000
DTSTAMP:20260424T133806
CREATED:20240513T154258Z
LAST-MODIFIED:20240513T154258Z
UID:2149-1734809400-1734816600@gospelkoorshinesliedrecht.nl
SUMMARY:Kerstoptreden ism fanfare Pr. Juliana Concordia Gameren-Nederhemert
DESCRIPTION:
URL:https://gospelkoorshinesliedrecht.nl/evenement/kerstoptreden-ism-fanfare-pr-juliana-concordia-gameren-nederhemert/
END:VEVENT
BEGIN:VEVENT
DTSTART;TZID=Europe/Amsterdam:20250202T093000
DTEND;TZID=Europe/Amsterdam:20250202T110000
DTSTAMP:20260424T133806
CREATED:20240419T061535Z
LAST-MODIFIED:20240419T061535Z
UID:2140-1738488600-1738494000@gospelkoorshinesliedrecht.nl
SUMMARY:Optreden in de gezinsdienst Hervormde Kerk te Rijswijk NB
DESCRIPTION:
URL:https://gospelkoorshinesliedrecht.nl/evenement/optreden-in-de-gezinsdienst-hervormde-kerk-te-rijswijk-nb/
LOCATION:Hervormde Kerk Rijswijk nb\, Maasdijk 27\, Rijswijk nb\, 4284VB\, Nederland
END:VEVENT
BEGIN:VEVENT
DTSTART;TZID=Europe/Amsterdam:20250329T193000
DTEND;TZID=Europe/Amsterdam:20250329T210000
DTSTAMP:20260424T133806
CREATED:20250225T183519Z
LAST-MODIFIED:20250303T192343Z
UID:2346-1743276600-1743282000@gospelkoorshinesliedrecht.nl
SUMMARY:Jubileumconcert
DESCRIPTION:
URL:https://gospelkoorshinesliedrecht.nl/evenement/jubileumconcert/
LOCATION:Protestantse gemeente Sliedrecht\, Middeldiepstraat 6\, Sliedrecht\, 3361 VT
END:VEVENT
BEGIN:VEVENT
DTSTART;TZID=Europe/Amsterdam:20250525T183000
DTEND;TZID=Europe/Amsterdam:20250525T193000
DTSTAMP:20260424T133806
CREATED:20240513T154439Z
LAST-MODIFIED:20240513T154446Z
UID:2151-1748197800-1748201400@gospelkoorshinesliedrecht.nl
SUMMARY:Zondagavondzang Gereformeerde Kerk Sliedrecht
DESCRIPTION:
URL:https://gospelkoorshinesliedrecht.nl/evenement/zondagavondzang-gereformeerde-kerk-sliedrecht/
LOCATION:Gereformeerde Kerk Sliedrecht\, Middeldiepstraat 6\, Sliedrecht\, Nederland
END:VEVENT
BEGIN:VEVENT
DTSTART;TZID=Europe/Amsterdam:20250713T093000
DTEND;TZID=Europe/Amsterdam:20250713T093000
DTSTAMP:20260424T133806
CREATED:20250301T192038Z
LAST-MODIFIED:20250301T192124Z
UID:2369-1752399000-1752399000@gospelkoorshinesliedrecht.nl
SUMMARY:Overstapochtenddienst
DESCRIPTION:
URL:https://gospelkoorshinesliedrecht.nl/evenement/overstapochtenddienst/
LOCATION:Bethelkerk Barendrecht\, Schaatsbaan 1\, Barendrecht\, 2992CN\, Nederland
END:VEVENT
BEGIN:VEVENT
DTSTART;TZID=Europe/Amsterdam:20251002T000000
DTEND;TZID=Europe/Amsterdam:20251002T000000
DTSTAMP:20260424T133806
CREATED:20250930T225837Z
LAST-MODIFIED:20251001T230222Z
UID:2351-1759363200-1759363200@gospelkoorshinesliedrecht.nl
SUMMARY:Overstapochtenddienst
DESCRIPTION:
URL:https://gospelkoorshinesliedrecht.nl/evenement/overstapochtenddienst-2/
END:VEVENT
BEGIN:VEVENT
DTSTART;VALUE=DATE:20251002
DTEND;VALUE=DATE:20251003
DTSTAMP:20260424T133806
CREATED:20251001T230357Z
LAST-MODIFIED:20251001T230853Z
UID:2148-1759363200-1759449599@gospelkoorshinesliedrecht.nl
SUMMARY:Kerstoptreden ism fanfare Prinses Juliana Nederhemert/Gameren
DESCRIPTION:
URL:https://gospelkoorshinesliedrecht.nl/evenement/kerstoptreden-ism-fanfare-prinses-juliana-nederhemert-gameren/
LOCATION:ASVZ Merwebolder Sliedrecht\, Kraaijestein 1\, Sliedrecht
END:VEVENT
BEGIN:VEVENT
DTSTART;TZID=Europe/Amsterdam:20251012T170000
DTEND;TZID=Europe/Amsterdam:20251012T170000
DTSTAMP:20260424T133806
CREATED:20250301T192242Z
LAST-MODIFIED:20250301T192255Z
UID:2371-1760288400-1760288400@gospelkoorshinesliedrecht.nl
SUMMARY:Opendeurmiddagdienst
DESCRIPTION:
URL:https://gospelkoorshinesliedrecht.nl/evenement/opendeurmiddagdienst/
LOCATION:Protestantse gemeente Sliedrecht\, Middeldiepstraat 6\, Sliedrecht\, 3361 VT
END:VEVENT
BEGIN:VEVENT
DTSTART;TZID=Europe/Amsterdam:20251122T200000
DTEND;TZID=Europe/Amsterdam:20251122T200000
DTSTAMP:20260424T133806
CREATED:20250930T073609Z
LAST-MODIFIED:20251017T171449Z
UID:2499-1763841600-1763841600@gospelkoorshinesliedrecht.nl
SUMMARY:Tour Abigail (met Filiae & Gerald Troost)
DESCRIPTION:
URL:https://gospelkoorshinesliedrecht.nl/evenement/tour-abigail-met-filiae-gerald-troost/
LOCATION:Grote kerk Sliedrecht\, Kerkbuurt 131\, Sliedrecht\, 3361 BE
END:VEVENT
BEGIN:VEVENT
DTSTART;TZID=Europe/Amsterdam:20251214T141500
DTEND;TZID=Europe/Amsterdam:20251214T151500
DTSTAMP:20260424T133806
CREATED:20251023T095320Z
LAST-MODIFIED:20251128T072357Z
UID:2538-1765721700-1765725300@gospelkoorshinesliedrecht.nl
SUMMARY:Aangepaste kerkdienst - Maranathakerk Sliedrecht
DESCRIPTION:
URL:https://gospelkoorshinesliedrecht.nl/evenement/aangepaste-kerkdienst/
LOCATION:Maranathakerk Sliedrecht\, Lijsterweg 2\, Sliedrecht\, 3362BK\, Nederland
END:VEVENT
BEGIN:VEVENT
DTSTART;TZID=Europe/Amsterdam:20251224T220000
DTEND;TZID=Europe/Amsterdam:20251224T230000
DTSTAMP:20260424T133806
CREATED:20250301T192506Z
LAST-MODIFIED:20251023T100159Z
UID:2373-1766613600-1766617200@gospelkoorshinesliedrecht.nl
SUMMARY:Kerstnachtdienst Ridderkerk - Christus is Koningkerk
DESCRIPTION:
URL:https://gospelkoorshinesliedrecht.nl/evenement/kerstnachtdienst-2/
LOCATION:Christus is koningkerk Ridderkerk\, Juliana van Stolbergstraat 44\, Ridderkerk\, 2983 HK
END:VEVENT
BEGIN:VEVENT
DTSTART;VALUE=DATE:20260208
DTEND;VALUE=DATE:20260209
DTSTAMP:20260424T133806
CREATED:20251023T095519Z
LAST-MODIFIED:20251023T100113Z
UID:2540-1770508800-1770595199@gospelkoorshinesliedrecht.nl
SUMMARY:Themadienst Geref. kerk Boven-Hardinxveld
DESCRIPTION:
URL:https://gospelkoorshinesliedrecht.nl/evenement/themadienst/
LOCATION:Gereformeerde kerk Boven-Hardinxveld
END:VEVENT
BEGIN:VEVENT
DTSTART;TZID=Europe/Amsterdam:20260405T104500
DTEND;TZID=Europe/Amsterdam:20260405T120000
DTSTAMP:20260424T133806
CREATED:20260303T144058Z
LAST-MODIFIED:20260303T144532Z
UID:2678-1775385900-1775390400@gospelkoorshinesliedrecht.nl
SUMMARY:Paasdienst in de Maranathakerk - Hervormd Sliedrecht
DESCRIPTION:
URL:https://gospelkoorshinesliedrecht.nl/evenement/pasen/
LOCATION:Maranathakerk Sliedrecht\, Lijsterweg 2\, Sliedrecht\, 3362BK\, Nederland
END:VEVENT
BEGIN:VEVENT
DTSTART;VALUE=DATE:20260531
DTEND;VALUE=DATE:20260601
DTSTAMP:20260424T133806
CREATED:20251023T095834Z
LAST-MODIFIED:20251023T100051Z
UID:2544-1780185600-1780271999@gospelkoorshinesliedrecht.nl
SUMMARY:Zondagavond zangdienst Prot. gem. Sliedrecht
DESCRIPTION:
URL:https://gospelkoorshinesliedrecht.nl/evenement/zondagavond-zangdienst/
LOCATION:Protestantse gemeente Sliedrecht\, Middeldiepstraat 6\, Sliedrecht\, 3361 VT
END:VEVENT
BEGIN:VEVENT
DTSTART;VALUE=DATE:20260712
DTEND;VALUE=DATE:20260713
DTSTAMP:20260424T133806
CREATED:20260303T144953Z
LAST-MODIFIED:20260330T195003Z
UID:2681-1783814400-1783900799@gospelkoorshinesliedrecht.nl
SUMMARY:Barendrecht ochtend-overstapdienst
DESCRIPTION:
URL:https://gospelkoorshinesliedrecht.nl/evenement/barendrecht-ochtend-overstapdienst/
LOCATION:Bethelkerk Barendrecht\, Schaatsbaan 1\, Barendrecht\, 2992CN\, Nederland
END:VEVENT
BEGIN:VEVENT
DTSTART;VALUE=DATE:20260920
DTEND;VALUE=DATE:20260921
DTSTAMP:20260424T133806
CREATED:20260303T145300Z
LAST-MODIFIED:20260303T145300Z
UID:2683-1789862400-1789948799@gospelkoorshinesliedrecht.nl
SUMMARY:Ochtenddienst Gereformeerde kerk Giessenburg / Maranathakerk (blauwe kerk)
DESCRIPTION:
URL:https://gospelkoorshinesliedrecht.nl/evenement/ochtenddienst-gereformeerde-kerk-giessenburg-maranathakerk-blauwe-kerk/
LOCATION:Gereformeerde kerk Giessenburg / Maranathakerk (blauwe kerk)\, Peursumseweg 15\, Giessenburg\, 3381 KT
END:VEVENT
BEGIN:VEVENT
DTSTART;TZID=Europe/Amsterdam:20260920T090000
DTEND;TZID=Europe/Amsterdam:20260920T100000
DTSTAMP:20260424T133806
CREATED:20251023T100033Z
LAST-MODIFIED:20251023T100033Z
UID:2546-1789894800-1789898400@gospelkoorshinesliedrecht.nl
SUMMARY:Startdienst Geref. Kerk Giessenburg
DESCRIPTION:
URL:https://gospelkoorshinesliedrecht.nl/evenement/startdienst-geref-kerk-giessenburg/
LOCATION:Gereformeerde kerk Giessenburg
END:VEVENT
BEGIN:VEVENT
DTSTART;VALUE=DATE:20261018
DTEND;VALUE=DATE:20261019
DTSTAMP:20260424T133806
CREATED:20260304T081503Z
LAST-MODIFIED:20260304T081503Z
UID:2687-1792281600-1792367999@gospelkoorshinesliedrecht.nl
SUMMARY:Tweestromengemeente Rossum
DESCRIPTION:
URL:https://gospelkoorshinesliedrecht.nl/evenement/tweestromengemeente-rossum/
LOCATION:Tweestromengemeente Rossum\, Maasdijk 14\, Rossum\, 5328 BG
END:VEVENT
BEGIN:VEVENT
DTSTART;VALUE=DATE:20261224
DTEND;VALUE=DATE:20261225
DTSTAMP:20260424T133806
CREATED:20260304T081806Z
LAST-MODIFIED:20260304T081806Z
UID:2691-1798070400-1798156799@gospelkoorshinesliedrecht.nl
SUMMARY:Kerst in Gereformeerde kerk Brandwijk / Molenaarsgraaf
DESCRIPTION:
URL:https://gospelkoorshinesliedrecht.nl/evenement/kerst-in-gereformeerde-kerk-brandwijk-molenaarsgraaf/
LOCATION:Gereformeerde kerk Brandwijk /Molenaarsgraaf\, Gijbelandsedijk 54\, Brandwijk\, 2974 BD
END:VEVENT
END:VCALENDAR