BEGIN:VCALENDAR
VERSION:2.0
PRODID:-//Gospelkoor Shine - ECPv6.15.20//NONSGML v1.0//EN
CALSCALE:GREGORIAN
METHOD:PUBLISH
X-ORIGINAL-URL:https://gospelkoorshinesliedrecht.nl
X-WR-CALDESC:Evenementen voor Gospelkoor Shine
REFRESH-INTERVAL;VALUE=DURATION:PT1H
X-Robots-Tag:noindex
X-PUBLISHED-TTL:PT1H
BEGIN:VTIMEZONE
TZID:Europe/Amsterdam
BEGIN:DAYLIGHT
TZOFFSETFROM:+0100
TZOFFSETTO:+0200
TZNAME:CEST
DTSTART:20230326T010000
END:DAYLIGHT
BEGIN:STANDARD
TZOFFSETFROM:+0200
TZOFFSETTO:+0100
TZNAME:CET
DTSTART:20231029T010000
END:STANDARD
BEGIN:DAYLIGHT
TZOFFSETFROM:+0100
TZOFFSETTO:+0200
TZNAME:CEST
DTSTART:20240331T010000
END:DAYLIGHT
BEGIN:STANDARD
TZOFFSETFROM:+0200
TZOFFSETTO:+0100
TZNAME:CET
DTSTART:20241027T010000
END:STANDARD
BEGIN:DAYLIGHT
TZOFFSETFROM:+0100
TZOFFSETTO:+0200
TZNAME:CEST
DTSTART:20250330T010000
END:DAYLIGHT
BEGIN:STANDARD
TZOFFSETFROM:+0200
TZOFFSETTO:+0100
TZNAME:CET
DTSTART:20251026T010000
END:STANDARD
END:VTIMEZONE
BEGIN:VEVENT
DTSTART;TZID=Europe/Amsterdam:20241221T193000
DTEND;TZID=Europe/Amsterdam:20241221T213000
DTSTAMP:20260424T011354
CREATED:20240513T154258Z
LAST-MODIFIED:20240513T154258Z
UID:2149-1734809400-1734816600@gospelkoorshinesliedrecht.nl
SUMMARY:Kerstoptreden ism fanfare Pr. Juliana Concordia Gameren-Nederhemert
DESCRIPTION:
URL:https://gospelkoorshinesliedrecht.nl/evenement/kerstoptreden-ism-fanfare-pr-juliana-concordia-gameren-nederhemert/
END:VEVENT
END:VCALENDAR