BEGIN:VCALENDAR
VERSION:2.0
PRODID:-//Gospelkoor Shine - ECPv6.15.20//NONSGML v1.0//EN
CALSCALE:GREGORIAN
METHOD:PUBLISH
X-ORIGINAL-URL:https://gospelkoorshinesliedrecht.nl
X-WR-CALDESC:Evenementen voor Gospelkoor Shine
REFRESH-INTERVAL;VALUE=DURATION:PT1H
X-Robots-Tag:noindex
X-PUBLISHED-TTL:PT1H
BEGIN:VTIMEZONE
TZID:Europe/Amsterdam
BEGIN:DAYLIGHT
TZOFFSETFROM:+0100
TZOFFSETTO:+0200
TZNAME:CEST
DTSTART:20230326T010000
END:DAYLIGHT
BEGIN:STANDARD
TZOFFSETFROM:+0200
TZOFFSETTO:+0100
TZNAME:CET
DTSTART:20231029T010000
END:STANDARD
BEGIN:DAYLIGHT
TZOFFSETFROM:+0100
TZOFFSETTO:+0200
TZNAME:CEST
DTSTART:20240331T010000
END:DAYLIGHT
BEGIN:STANDARD
TZOFFSETFROM:+0200
TZOFFSETTO:+0100
TZNAME:CET
DTSTART:20241027T010000
END:STANDARD
BEGIN:DAYLIGHT
TZOFFSETFROM:+0100
TZOFFSETTO:+0200
TZNAME:CEST
DTSTART:20250330T010000
END:DAYLIGHT
BEGIN:STANDARD
TZOFFSETFROM:+0200
TZOFFSETTO:+0100
TZNAME:CET
DTSTART:20251026T010000
END:STANDARD
END:VTIMEZONE
BEGIN:VEVENT
DTSTART;TZID=Europe/Amsterdam:20241215T143000
DTEND;TZID=Europe/Amsterdam:20241215T153000
DTSTAMP:20260424T095153
CREATED:20240302T120153Z
LAST-MODIFIED:20240302T120153Z
UID:2119-1734273000-1734276600@gospelkoorshinesliedrecht.nl
SUMMARY:Aangepaste kerstviering Maranathakerk Sliedrecht
DESCRIPTION:Wat een feest was het dat we afgelopen jaar mochten zingen tijdens de aangepaste kerstviering. Wij hebben er ontzettend van genoten en zijn dan ook super blij dat we ook dit jaar onze medewerking mogen verlenen aan de kerstviering in de Maranathakerk. We hebben er nu al heel veel zin in. Zien we u dan ook?
URL:https://gospelkoorshinesliedrecht.nl/evenement/aangepaste-kerstviering-maranathakerk-sliedrecht/
LOCATION:Maranathakerk Sliedrecht\, Lijsterweg 2\, Sliedrecht\, 3362BK\, Nederland
END:VEVENT
END:VCALENDAR